BEGIN:VCALENDAR
VERSION:2.0
PRODID:-//Centre holistique l&#039;Harmonie - ECPv6.15.16//NONSGML v1.0//EN
CALSCALE:GREGORIAN
METHOD:PUBLISH
X-ORIGINAL-URL:https://harmonisetoi.ca
X-WR-CALDESC:Évènements pour Centre holistique l&#039;Harmonie
REFRESH-INTERVAL;VALUE=DURATION:PT1H
X-Robots-Tag:noindex
X-PUBLISHED-TTL:PT1H
BEGIN:VTIMEZONE
TZID:America/Toronto
BEGIN:DAYLIGHT
TZOFFSETFROM:-0500
TZOFFSETTO:-0400
TZNAME:EDT
DTSTART:20240310T070000
END:DAYLIGHT
BEGIN:STANDARD
TZOFFSETFROM:-0400
TZOFFSETTO:-0500
TZNAME:EST
DTSTART:20241103T060000
END:STANDARD
BEGIN:DAYLIGHT
TZOFFSETFROM:-0500
TZOFFSETTO:-0400
TZNAME:EDT
DTSTART:20250309T070000
END:DAYLIGHT
BEGIN:STANDARD
TZOFFSETFROM:-0400
TZOFFSETTO:-0500
TZNAME:EST
DTSTART:20251102T060000
END:STANDARD
BEGIN:DAYLIGHT
TZOFFSETFROM:-0500
TZOFFSETTO:-0400
TZNAME:EDT
DTSTART:20260308T070000
END:DAYLIGHT
BEGIN:STANDARD
TZOFFSETFROM:-0400
TZOFFSETTO:-0500
TZNAME:EST
DTSTART:20261101T060000
END:STANDARD
END:VTIMEZONE
BEGIN:VEVENT
DTSTART;TZID=America/Toronto:20250512T130000
DTEND;TZID=America/Toronto:20250512T160000
DTSTAMP:20260423T201225
CREATED:20250423T185543Z
LAST-MODIFIED:20250423T185543Z
UID:10527-1747054800-1747065600@harmonisetoi.ca
SUMMARY:Formation "Les bases de la radiesthésie" - Coaching en ligne
DESCRIPTION:Ouvre les portes vers une connexion profonde avec ton être intérieur et les énergies qui t’entourent! \nEs-tu prêt·e à plonger dans le mystérieux monde de la radiesthésie? \nÀ découvrir les secrets des énergies subtiles et à maîtriser l’art ancestral de la détection? \nBienvenue dans notre programme de formation sur les bases de la radiesthésie! \nLa radiesthésie est bien plus qu’une simple technique – c’est un voyage fascinant vers la découverte de soi et de l’univers qui nous entoure. Tu apprendras à utiliser des outils traditionnels et des techniques modernes pour interpréter les signaux énergétiques et obtenir des réponses claires. \nDans ce programme\, tu découvriras : \n Les fondements de la radiesthésie et son histoire riche et mystérieuse; Comment choisir et utiliser les outils radiesthésiques appropriés pour tes besoins; Des exercices pratiques pour développer ton intuition et affiner tes compétences de détection; Comment utiliser la radiesthésie pour prendre des décisions éclairées dans tous les aspects de ta vie – amour\, carrière\, santé et bien plus encore. \nNous croyons fermement que chacun possède un potentiel illimité à explorer\, et la radiesthésie est une clé puissante pour ouvrir les portes de la connaissance et de la transformation personnelle. \nRejoins-nous dès maintenant et laisse la radiesthésie illuminer ton chemin vers la clarté\, la compréhension et l’épanouissement! \n Réserve ta place dès aujourd’hui et embrasse le pouvoir de la radiesthésie pour créer une vie plus consciente et alignée avec ton être véritable\, prochain coaching de groupe en virtuel\, sur Zoom\, le lundi 12 mai\, de 13 h à 16 h. \nTu ne peux pas te présenter\, aucun souci\, car la formation complète est disponible en ligne avec tous les documents et vidéo coaching. \nTémoignage \n”J’avais acheté un pendule depuis quelques semaines\, toutefois je ne connaissais pas vraiment les possibilités offertes par cet outil. Je me suis donc inscrite à la formation en salle de Josée Bernier et je suis enchantée de tout ce que j’ai appris : comment en choisir un\, comment écrire une convention pour son utilisation\, quelles questions poser et comment les formuler\, comment le nettoyer etc. En fait\, cette formation est très complète et pourrait s’appeler « Tout ce que vous avez toujours voulu savoir sur le pendule et n’avez jamais osé demander »! Maintenant je m’en sers régulièrement et les réponses que je reçois sont de plus en plus justes! Je recommande cette formation à toute personne qui s’intéresse minimalement à ce sujet et qui souhaite apprendre à mieux l’utiliser.” \nMerci Josée – Chantal \nPour prendre plus d’information et t’inscrire\, c’est juste ici :https://harmonisetoi.ca/formations/ \nJosée BernierPropriétaire du Centre holistique HarmonieHypnothérapeuteFacilitatrice de Pas-Sage
URL:https://harmonisetoi.ca/event/formation-les-bases-de-la-radiesthesie-coaching-en-ligne/
LOCATION:Centre holistique l’Harmonie – Manoir Breakey\, 3741 avenue St-Augustin\, Sainte-Hélène-de-Breakeyville\, Québec\, G6Z 8H7\, Canada
CATEGORIES:Formation
ATTACH;FMTTYPE=image/jpeg:https://harmonisetoi.ca/wp-content/uploads/492684514_122159594252371454_6748553411372536350_n.jpg
END:VEVENT
END:VCALENDAR