BEGIN:VCALENDAR
VERSION:2.0
PRODID:-//Centre holistique l&#039;Harmonie - ECPv6.15.16//NONSGML v1.0//EN
CALSCALE:GREGORIAN
METHOD:PUBLISH
X-ORIGINAL-URL:https://harmonisetoi.ca
X-WR-CALDESC:Évènements pour Centre holistique l&#039;Harmonie
REFRESH-INTERVAL;VALUE=DURATION:PT1H
X-Robots-Tag:noindex
X-PUBLISHED-TTL:PT1H
BEGIN:VTIMEZONE
TZID:America/Toronto
BEGIN:DAYLIGHT
TZOFFSETFROM:-0500
TZOFFSETTO:-0400
TZNAME:EDT
DTSTART:20240310T070000
END:DAYLIGHT
BEGIN:STANDARD
TZOFFSETFROM:-0400
TZOFFSETTO:-0500
TZNAME:EST
DTSTART:20241103T060000
END:STANDARD
BEGIN:DAYLIGHT
TZOFFSETFROM:-0500
TZOFFSETTO:-0400
TZNAME:EDT
DTSTART:20250309T070000
END:DAYLIGHT
BEGIN:STANDARD
TZOFFSETFROM:-0400
TZOFFSETTO:-0500
TZNAME:EST
DTSTART:20251102T060000
END:STANDARD
BEGIN:DAYLIGHT
TZOFFSETFROM:-0500
TZOFFSETTO:-0400
TZNAME:EDT
DTSTART:20260308T070000
END:DAYLIGHT
BEGIN:STANDARD
TZOFFSETFROM:-0400
TZOFFSETTO:-0500
TZNAME:EST
DTSTART:20261101T060000
END:STANDARD
END:VTIMEZONE
BEGIN:VEVENT
DTSTART;TZID=America/Toronto:20250222T090000
DTEND;TZID=America/Toronto:20250222T160000
DTSTAMP:20260424T004045
CREATED:20241211T150411Z
LAST-MODIFIED:20241211T150411Z
UID:9880-1740214800-1740240000@harmonisetoi.ca
SUMMARY:Lecture de cartes oracles avec les déesses
DESCRIPTION:Découvrez la puissance des cartes oracles avec la guidance des Déesses\nExplorez un univers mystique avec ce programme unique qui vous offre la possibilité de découvrir les secrets des cartes oracles. \nCette formation guidée par la sagesse et la bienveillance des déesses vous permettra de renforcer votre connexion à vos pouvoirs féminins sacrés. Ce programme vous aidera à développer vos dons intuitifs\, à cultiver une plus grande clarté spirituelle et à embrasser pleinement votre potentiel sacré. \nLes cartes oracles offrent un moyen profond et intuitif de se connecter à des énergies supérieures et de recevoir des messages sacrés. Lorsqu’elles sont associées aux déesses\, ces cartes deviennent des outils puissants pour nous guider et nous inspirer dans notre chemin spirituel. \nAu cours de cette formation\, vous allez : \n\ncomprendre les bases des cartes oracles;\ndévelopper votre intuition et votre savoir;\napprendre à purifier vos cartes\, votre espace et vous-même;\ndévelopper votre autonomie spirituelle;\nrecevoir des guidances personnalisées;\ndécouvrir et affiner votre style de guidance ;\nexplorer la sagesse des déesses et leurs énergies;\ndévelopper vos dons.\n\nCoût : 222 $ (réduction de 22 $ si vous réservez d’ici le 22 janvier 2025\, car le coût régulier est de 244 $). \nEn savoir plus et inscription : https://www.lynedrouin.com/lecture-de-cartes-oracles \nModes de paiement : \n\nCarte de crédit;\nVirement bancaire (Interac) à : info@lynedrouin.com\nQuestion : formation\nRéponse : oracle\n\nFormatrice : Lyne Drouin \nEnseignante spirituelle\nPrêtresse de la Rose\nMaître praticienne énergétique
URL:https://harmonisetoi.ca/event/lecture-de-cartes-oracles-avec-les-deesses/
LOCATION:Centre holistique l’Harmonie – Manoir Breakey\, 3741 avenue St-Augustin\, Sainte-Hélène-de-Breakeyville\, Québec\, G6Z 8H7\, Canada
CATEGORIES:Formation
ATTACH;FMTTYPE=image/png:https://harmonisetoi.ca/wp-content/uploads/unnamed-2.png
END:VEVENT
END:VCALENDAR