BEGIN:VCALENDAR
VERSION:2.0
PRODID:-//Centre holistique l&#039;Harmonie - ECPv6.15.16//NONSGML v1.0//EN
CALSCALE:GREGORIAN
METHOD:PUBLISH
X-ORIGINAL-URL:https://harmonisetoi.ca
X-WR-CALDESC:Évènements pour Centre holistique l&#039;Harmonie
REFRESH-INTERVAL;VALUE=DURATION:PT1H
X-Robots-Tag:noindex
X-PUBLISHED-TTL:PT1H
BEGIN:VTIMEZONE
TZID:America/Toronto
BEGIN:DAYLIGHT
TZOFFSETFROM:-0500
TZOFFSETTO:-0400
TZNAME:EDT
DTSTART:20230312T070000
END:DAYLIGHT
BEGIN:STANDARD
TZOFFSETFROM:-0400
TZOFFSETTO:-0500
TZNAME:EST
DTSTART:20231105T060000
END:STANDARD
BEGIN:DAYLIGHT
TZOFFSETFROM:-0500
TZOFFSETTO:-0400
TZNAME:EDT
DTSTART:20240310T070000
END:DAYLIGHT
BEGIN:STANDARD
TZOFFSETFROM:-0400
TZOFFSETTO:-0500
TZNAME:EST
DTSTART:20241103T060000
END:STANDARD
BEGIN:DAYLIGHT
TZOFFSETFROM:-0500
TZOFFSETTO:-0400
TZNAME:EDT
DTSTART:20250309T070000
END:DAYLIGHT
BEGIN:STANDARD
TZOFFSETFROM:-0400
TZOFFSETTO:-0500
TZNAME:EST
DTSTART:20251102T060000
END:STANDARD
END:VTIMEZONE
BEGIN:VEVENT
DTSTART;TZID=America/Toronto:20241112T183000
DTEND;TZID=America/Toronto:20241217T210000
DTSTAMP:20260424T032804
CREATED:20241028T195824Z
LAST-MODIFIED:20241028T195843Z
UID:9716-1731436200-1734469200@harmonisetoi.ca
SUMMARY:Face à face : s'affranchir de la culpabilité!
DESCRIPTION:Un voyage vers une transformation profonde & durable \nApprends DÈS MAINTENANT à t’aimer et à t’accepter pleinement. Libère-toi de la culpabilité\, de la peur du rejet et du sentiment de ne pas être à la hauteur. \nViens vivre une expérience transformationnelle. Six semaines de coaching de groupe dans lequel tu sortiras inspirée et assumée. Tu changeras ton regard sur toi-même\, embrasseras tes parts d’ombre et ta lumière afin d’être authentique et assumer. \nVOICI À QUI S’ADRESSE CE PROCESSUS : \nAS TU DÉJÀ… \n\ndouté de ta valeur et eu peur de ne pas être à la hauteur?\njoué le jeu de la perfection en te mettant de la pression?\nmis des masques pour éviter de montrer ta vulnérabilité?\nressenti de l’insécurité ou du rejet?\nsaboté ton bien-être par culpabilité?\nressenti de la gêne ou un malaise à exprimer tes besoins?\n\nCe message s’adresse à toutes les femmes qui vivent de la culpabilité\, qui se battent pour atteindre la perfection\, qui s’efforcent toujours de performer\, et qui ont vraiment besoin de ralentir pour prendre du temps pour elles. Si tu te sens parfois trop intense ou\, au contraire\, si tu as de la difficulté à prendre ta place\, si tu sens de la gêne d’exprimer tes besoins\, de la honte d’assumer ta couleur\, ou si tu as tendance à te comparer aux autres femmes\, ce message est pour toi. \nRejoins-nous pour un voyage transformateur et libérateur où tu apprendras à t’aimer\, à t’accepter et à RAYONNER avec toute ton authenticité. C’est l’heure de te révéler et d’embrasser ta féminité pour honorer ta beauté. \nDébut du programme LES mardis 12 novembre\, de 18 h 30 à 21 h jusqu’au mardi 17 décembre. \nÇA COMPREND QUOI? \n\n6 semaines de coaching de groupe en présentiel de 2 h 30\nEN BONUS une rencontre individuelle avec moi de 90 minutes\nAccès au groupe privé FACEBOOK\nL’enregistrement des guidances\nPlein de surprises lors des coaching (méditations\, partages\, enseignements\, mantras\, séances d’hypnose\, ateliers créatifs\, techniques d’impacts\, danses\, etc.)\nCoût seulement 666 $ +tx (776\,49 $)\nPayable en 1 ou 3 versements 258\,83 $\n\nTu peux réserver ta place dès maintenantVirement Interac info@harmoinsetoi.ca \nQuestion : processusRéponse : face \nPlaces limitées 8 femmes! \nJE T’ATTENDS!
URL:https://harmonisetoi.ca/event/face-a-face-saffranchir-de-la-culpabilite/
LOCATION:Centre holistique l’Harmonie – Manoir Breakey\, 3741 avenue St-Augustin\, Sainte-Hélène-de-Breakeyville\, Québec\, G6Z 8H7\, Canada
CATEGORIES:Formation
ATTACH;FMTTYPE=image/jpeg:https://harmonisetoi.ca/wp-content/uploads/464759286_122133056078371454_2199361146919219788_n.jpg
ORGANIZER;CN="Jos%C3%A9e Bernier":MAILTO:info@harmonisetoi.ca
END:VEVENT
END:VCALENDAR