BEGIN:VCALENDAR
VERSION:2.0
PRODID:-//Centre holistique l&#039;Harmonie - ECPv6.15.16//NONSGML v1.0//EN
CALSCALE:GREGORIAN
METHOD:PUBLISH
X-ORIGINAL-URL:https://harmonisetoi.ca
X-WR-CALDESC:Évènements pour Centre holistique l&#039;Harmonie
REFRESH-INTERVAL;VALUE=DURATION:PT1H
X-Robots-Tag:noindex
X-PUBLISHED-TTL:PT1H
BEGIN:VTIMEZONE
TZID:America/Toronto
BEGIN:DAYLIGHT
TZOFFSETFROM:-0500
TZOFFSETTO:-0400
TZNAME:EDT
DTSTART:20230312T070000
END:DAYLIGHT
BEGIN:STANDARD
TZOFFSETFROM:-0400
TZOFFSETTO:-0500
TZNAME:EST
DTSTART:20231105T060000
END:STANDARD
BEGIN:DAYLIGHT
TZOFFSETFROM:-0500
TZOFFSETTO:-0400
TZNAME:EDT
DTSTART:20240310T070000
END:DAYLIGHT
BEGIN:STANDARD
TZOFFSETFROM:-0400
TZOFFSETTO:-0500
TZNAME:EST
DTSTART:20241103T060000
END:STANDARD
BEGIN:DAYLIGHT
TZOFFSETFROM:-0500
TZOFFSETTO:-0400
TZNAME:EDT
DTSTART:20250309T070000
END:DAYLIGHT
BEGIN:STANDARD
TZOFFSETFROM:-0400
TZOFFSETTO:-0500
TZNAME:EST
DTSTART:20251102T060000
END:STANDARD
END:VTIMEZONE
BEGIN:VEVENT
DTSTART;TZID=America/Toronto:20240927T090000
DTEND;TZID=America/Toronto:20240927T160000
DTSTAMP:20260424T082442
CREATED:20240827T230701Z
LAST-MODIFIED:20240827T230737Z
UID:9351-1727427600-1727452800@harmonisetoi.ca
SUMMARY:Formation d'introduction à l'hypnose thérapeutique (en virtuel)
DESCRIPTION:CONNAISSEZ-VOUS L’HYPNOSE THÉRAPEUTIQUE? \nL’hypnose thérapeutique vise à rendre accessibles des ressources peu exploitées qui se trouvent à l’intérieur de nous et à activer notre pouvoir de transformation à l’aide de suggestions réalisées durant un état modifié de conscience. \nFrançois Roustang définissait l’hypnose ainsi : se laisser aller dans son existence telle qu’elle est. Pour lui\, l’hypnose thérapeutique n’était pas seulement un outil\, mais bien une philosophie de vie. \nEt à l’intérieur de cette formation\, vous serrez guidé vers vous-même\, vers votre essence… \nDESCRIPTION DE LA FORMATION \nDans cette formation d’introduction à l’hypnose thérapeutique d’une durée totale de 7 heures\, vous découvrirez les principes de base de l’hypnose thérapeutique\, les états modifiés de conscience et vous découvrirez également comment vous faire vous-même vos propres suggestions hypnothérapeutiques grâce à l’autohypnose! \nDurant cette formation\, vous découvrirez : \n– L’hypnose et ses fondements de base : Un retour vers soi…– Le fonctionnement du cerveau;– Les états modifiés de conscience;– La technique de base de l’hypnose thérapeutique;– Le pouvoir de l’autohypnose et comment se reprogrammer;– Et plus encore! \nSTRUCTURE DE LA FORMATION \nSi vous souhaitez vous inscrire à cette formation d’introduction à l’hypnose thérapeutique\, deux options s’offrent à vous: \n– Formation en salle\nCette formation aura lieu le 13 septembre 2024 de 9h00 à 16h00 au Centre Holistique l’Harmonie situé au 3741\, avenue St-Augustin\, à Ste-Hélène-de-Breakeyville. \n– Formation dans notre salle de classe virtuelle (Zoom)\nCette formation aura lieu le 27 septembre 2024 de 9h00 à 16h00 en direct sur Zoom. \nEn collaboration avec l’école Neuro Formations. \n  \nINSCRIPTION \nhttps://neuroformations.com/formations-certifiantes/introduction-a-lhypnose/ \n 
URL:https://harmonisetoi.ca/event/formation-dintroduction-a-lhypnose-therapeutique-en-virtuel/
LOCATION:En ligne
CATEGORIES:Formation
ATTACH;FMTTYPE=image/jpeg:https://harmonisetoi.ca/wp-content/uploads/449085077_881094990702618_8401703005888878796_n.jpg
ORGANIZER;CN="Jos%C3%A9e Bernier":MAILTO:info@harmonisetoi.ca
END:VEVENT
END:VCALENDAR