BEGIN:VCALENDAR
VERSION:2.0
PRODID:-//Centre holistique l&#039;Harmonie - ECPv6.15.16//NONSGML v1.0//EN
CALSCALE:GREGORIAN
METHOD:PUBLISH
X-WR-CALNAME:Centre holistique l&#039;Harmonie
X-ORIGINAL-URL:https://harmonisetoi.ca
X-WR-CALDESC:Évènements pour Centre holistique l&#039;Harmonie
REFRESH-INTERVAL;VALUE=DURATION:PT1H
X-Robots-Tag:noindex
X-PUBLISHED-TTL:PT1H
BEGIN:VTIMEZONE
TZID:America/Toronto
BEGIN:DAYLIGHT
TZOFFSETFROM:-0500
TZOFFSETTO:-0400
TZNAME:EDT
DTSTART:20230312T070000
END:DAYLIGHT
BEGIN:STANDARD
TZOFFSETFROM:-0400
TZOFFSETTO:-0500
TZNAME:EST
DTSTART:20231105T060000
END:STANDARD
BEGIN:DAYLIGHT
TZOFFSETFROM:-0500
TZOFFSETTO:-0400
TZNAME:EDT
DTSTART:20240310T070000
END:DAYLIGHT
BEGIN:STANDARD
TZOFFSETFROM:-0400
TZOFFSETTO:-0500
TZNAME:EST
DTSTART:20241103T060000
END:STANDARD
BEGIN:DAYLIGHT
TZOFFSETFROM:-0500
TZOFFSETTO:-0400
TZNAME:EDT
DTSTART:20250309T070000
END:DAYLIGHT
BEGIN:STANDARD
TZOFFSETFROM:-0400
TZOFFSETTO:-0500
TZNAME:EST
DTSTART:20251102T060000
END:STANDARD
END:VTIMEZONE
BEGIN:VEVENT
DTSTART;TZID=America/Toronto:20240414T093000
DTEND;TZID=America/Toronto:20240414T170000
DTSTAMP:20260424T150838
CREATED:20240327T115440Z
LAST-MODIFIED:20240327T115440Z
UID:8873-1713087000-1713114000@harmonisetoi.ca
SUMMARY:Formation en massage métamorphique
DESCRIPTION:Facilitatrice : Josée Gascon\nLE MASSAGE MÉTAMORPHIQUE\n\nLe massage métamorphique est une approche douce et apaisante qui se fait sur les pieds\, mains et tête\nC’est une approche qui permet de libérer tout ce que nous avons emmagasiné dans nos mémoires cellulaires au cours de nos vies et dans le ventre de notre maman.\nÉlimine tous les schémas répétitifs limitants.\n*Pour une plus grande confiance en soi\n*Un bien-être avec le corps dans sa globalité\n*Une nouvelle façon de voir la vie\, de nouvelles perspectives des événements\n*Une légèreté\n*Une clarté\n\nLa personne qui reçoit le massage métamorphique plonge dans une détente profonde par la stimulation de certaines zones réflexes sur le corps que fait le praticien et ensuite le nettoyage se fait doucement par les mouvements du massage métamorphique\n\nPour en lire plus\nhttps://joseegascon.com/produit/massage-metamorphique/\nSe donne sur 1 journée\nTarif $325\nPour t’inscrire : https://joseegascon.com/produit/formation-en-massage-metamorphique/
URL:https://harmonisetoi.ca/event/formation-en-massage-metamorphique/
LOCATION:Centre holistique l’Harmonie – Manoir Breakey\, 3741 avenue St-Augustin\, Sainte-Hélène-de-Breakeyville\, Québec\, G6Z 8H7\, Canada
CATEGORIES:Formation
ATTACH;FMTTYPE=image/jpeg:https://harmonisetoi.ca/wp-content/uploads/431909283_975434024304418_5138479907860951282_n.jpg
END:VEVENT
BEGIN:VEVENT
DTSTART;TZID=America/Toronto:20240419T130000
DTEND;TZID=America/Toronto:20240419T160000
DTSTAMP:20260424T150838
CREATED:20240321T232028Z
LAST-MODIFIED:20240321T232028Z
UID:8852-1713531600-1713542400@harmonisetoi.ca
SUMMARY:Formation les bases de la radiesthésie (en présentiel)
DESCRIPTION:Je suis très heureuse de vous présentez la formation en présentiel sur les bases de la radiesthésie. Celle qui vous permettra de découvrir les secrets du pendule.\nCette formation de 3 heures est un guide simple et pratique qui rendra l’utilisation du pendule amusante\, mais surtout fiable et précise.\n\n-Elle te permettra d’apprendre à formuler adéquatement tes questions pour recevoir des réponses précises\n-Elle te permettra de choisir le bon pendule pour toi\n-Elle te permettra de bien te préparer avant d’utiliser ton pendule\n-Elle te permettra de développer un lien de confiance avec ton pendule\n-Elle te permettra de développer ton intuition\n-Elle te permettra également de mieux comprendre le vaste champs des possibles en utilisant ton pendule\nEt surtout\, cette formation te permettra de reconnecter avec tes dons\, talents et tes capacités de magnétisme.\nSi tu es curieux et curieuse et que la médecine du pendule t’appel depuis longtemps\, il est maintenant le temps de faire le grand saut.\nCette offre spécial est de 149$ plus taxes et tu auras également accès à la formation en ligne pour débuter ta pratique.\nNous avons également des pendules en vente sur place.\n\nPour t’inscrire\, merci de d’utiliser le lien suivant: https://harmonisetoi.ca/formations/\nAprès ton achat tu auras déjà accès à la formation en ligne et tu pourras télécharger les documents PDF et les différentes planches de radiesthésies.\nPar la suite écoute les vidéos d’exercices.\nSi tu as déjà ton pendule amuse-toi.\n\nSi tu préfère attendre le cours le coaching de groupe du 19 avril pour commencer c’est correcte.\nNous allons revoir la théorie ensemble et garder du temps pour la pratique.\nSi tu as des questions tu peux m’écrire : info@harmonisetoi.ca\n\nPlace limitées 10 personnes!\nJosée Bernier Entrepreneure spirituelle\nPropriétaire du Centre Holistique l’Harmonie\nAmbassadrice de lumière\nFacilitatrice de Pas-Sage\nhttps://fb.me/e/3o5OhAayW
URL:https://harmonisetoi.ca/event/formation-les-bases-de-la-radiesthesie-en-presentiel/
LOCATION:Centre holistique l’Harmonie – Manoir Breakey\, 3741 avenue St-Augustin\, Sainte-Hélène-de-Breakeyville\, Québec\, G6Z 8H7\, Canada
CATEGORIES:Formation
ATTACH;FMTTYPE=image/png:https://harmonisetoi.ca/wp-content/uploads/Prenez-votre-dose-de-cafe-Publication-Facebook.png
ORGANIZER;CN="Jos%C3%A9e Bernier":MAILTO:info@harmonisetoi.ca
END:VEVENT
BEGIN:VEVENT
DTSTART;TZID=America/Toronto:20240420T090000
DTEND;TZID=America/Toronto:20240420T160000
DTSTAMP:20260424T150838
CREATED:20240205T162157Z
LAST-MODIFIED:20240213T204447Z
UID:8511-1713603600-1713628800@harmonisetoi.ca
SUMMARY:Formation Marketing Quantique
DESCRIPTION:Éprouves-tu de la difficulté à trouver des clients ?…ou à les garder ?\nAs-tu le présentiment que le bouche-à-oreille ne fera jamais son travail ?\nAs-tu l’impression que peu importe ce que tu vas faire\, tu ne récolteras pas les résultats espéré à l’égard de tes stratégies marketing ?\nEs-tu découragé face à ton choix de devenir travailleur autonome au point de vouloir retourner au statut de salarié ?\nAs-tu souvent des rendez-vous annulés\, avec ou sans préavis ?\nAs-tu l’impression que personne ne comprends ce que tu fais/offres ? ou pire…que personne n’en veut ?\nLes gens de ton entourage tentent-ils constamment de te dissuader de démarrer ou poursuivre ton projet d’entrepreneuriat ?\nEst-ce que le SYNDROME de l’IMPOSTEUR t’affecte en tentant de te convaincre que tu n’as pas ce qu’il faut pour réussir ?\nÉprouves-tu de la difficulté à rester motivé ?\nRessens-tu cet élan puissant qui vient de l’intérieur et te pousse à avancer…mais tu ne sais pas vers quoi ?\nSens-tu que tu as plus à offrir mais tu ne sais pas quoi ?\n\nSI tu as répondu OUI à l’une ou plusieurs de ces questions\,\nTU AS BESOIN de cette formation!\n\nÀ la fin de ta journée tu repartiras dans une posture de confiance et d’espoir car nous aurons posé le regard sur tous tes angles morts et ta nouvelle lucidité facilitera énormément ton quotidien !\nCette formation n’est pas que formatrice elle conduit l’intégration afin de permettre l’accès à une nouvelle réalité relationnelle et professionnelle.\n\nCoût de la formation : 260$+tx par personne\nJournée de 6h en Présentiel (incluant 45 minutes pour diner)\n– Documentation\n– Enseignements\n– Réponses aux questions\n– Mini Harmonisation neuroquantique de groupe\n*** À noter que cette formation est aussi offerte en individuel à 695$+tx\n\nPOUR S’INSCRIRE :\n> passez par le formulaire sur la page dédiée de mon site web\n\n***** pour en savoir plus sur Chantale Beaumont et ses services variés visitez son site web\nhttps://www.chantalebeaumont.ca/\n\nURL Événement FACEBOOK :\nhttps://fb.me/e/38CmfxBJh\nURL page web dédiée sur la formation :\nhttps://www.chantalebeaumont.ca/formation-marketing-quantique
URL:https://harmonisetoi.ca/event/formation-marketing-quantique/
LOCATION:Centre holistique l’Harmonie – Manoir Breakey\, 3741 avenue St-Augustin\, Sainte-Hélène-de-Breakeyville\, Québec\, G6Z 8H7\, Canada
CATEGORIES:Formation
ATTACH;FMTTYPE=image/png:https://harmonisetoi.ca/wp-content/uploads/Creation-sans-titre-5.png
END:VEVENT
END:VCALENDAR