BEGIN:VCALENDAR
VERSION:2.0
PRODID:-//Centre holistique l&#039;Harmonie - ECPv6.15.16//NONSGML v1.0//EN
CALSCALE:GREGORIAN
METHOD:PUBLISH
X-WR-CALNAME:Centre holistique l&#039;Harmonie
X-ORIGINAL-URL:https://harmonisetoi.ca
X-WR-CALDESC:Évènements pour Centre holistique l&#039;Harmonie
REFRESH-INTERVAL;VALUE=DURATION:PT1H
X-Robots-Tag:noindex
X-PUBLISHED-TTL:PT1H
BEGIN:VTIMEZONE
TZID:America/Toronto
BEGIN:DAYLIGHT
TZOFFSETFROM:-0500
TZOFFSETTO:-0400
TZNAME:EDT
DTSTART:20230312T070000
END:DAYLIGHT
BEGIN:STANDARD
TZOFFSETFROM:-0400
TZOFFSETTO:-0500
TZNAME:EST
DTSTART:20231105T060000
END:STANDARD
BEGIN:DAYLIGHT
TZOFFSETFROM:-0500
TZOFFSETTO:-0400
TZNAME:EDT
DTSTART:20240310T070000
END:DAYLIGHT
BEGIN:STANDARD
TZOFFSETFROM:-0400
TZOFFSETTO:-0500
TZNAME:EST
DTSTART:20241103T060000
END:STANDARD
BEGIN:DAYLIGHT
TZOFFSETFROM:-0500
TZOFFSETTO:-0400
TZNAME:EDT
DTSTART:20250309T070000
END:DAYLIGHT
BEGIN:STANDARD
TZOFFSETFROM:-0400
TZOFFSETTO:-0500
TZNAME:EST
DTSTART:20251102T060000
END:STANDARD
END:VTIMEZONE
BEGIN:VEVENT
DTSTART;TZID=America/Toronto:20240203T083000
DTEND;TZID=America/Toronto:20240203T180000
DTSTAMP:20260424T175837
CREATED:20231215T013037Z
LAST-MODIFIED:20240109T233918Z
UID:8233-1706949000-1706983200@harmonisetoi.ca
SUMMARY:Formation Healing Touch - niveau 1 : 16 heures (3 et 17 février)
DESCRIPTION:Samedi le 3 et 17 février 2024. Healing Touch = approche énergétique efficace et sécuritaire que tout le monde peut utiliser.\n\nVous apprendrez :\n– Douze techniques que vous pourrez utiliser immédiatement pour soulager la douleur et favoriser le bien-être pour vous et les autres.\n– À approfondir vos connaissances de l’énergie subtile et de l’anatomie énergétique humaine\, et de la façon dont elle est reliée au corps\, à l’esprit\, aux émotions et à l’âme.\n– Les connaissances nécessaires pour évaluer les sept chakras et le champ d’énergie.\n– Des moyens pour maintenir l’équilibre de votre propre système énergétique afin que vous puissiez continuer à vous épanouir.\n– Les aspects professionnels des thérapies impliquant le toucher.\n\nLe niveau 1 offre 16 heures de formation continue aux participants. HTP est accrédité en tant que prestataire de développement professionnel continu en soins infirmiers par American Nurses Credentialing Center’s (ANCC) Commission on Accreditation\n\nCoût (incluant cahier de travail) 547$\nInscription avant le 19 janvier 450$\nÉtudiant à temps plein – 305$\nReprise 305$\nInscription en ligne\nhttps://forms.office.com/r/UEGk9cWtLh?origin=lprLink\n\nÉdith Dumont\ndumont.edith@videotron.ca\n581 999-2743
URL:https://harmonisetoi.ca/event/formation-healing-touch-niveau-1-16-heures-3-et-17-fevrier/
LOCATION:Centre holistique l’Harmonie – Manoir Breakey\, 3741 avenue St-Augustin\, Sainte-Hélène-de-Breakeyville\, Québec\, G6Z 8H7\, Canada
CATEGORIES:Formation
ATTACH;FMTTYPE=image/jpeg:https://harmonisetoi.ca/wp-content/uploads/406831697_317691761084380_8997525594747846425_n.jpg
END:VEVENT
BEGIN:VEVENT
DTSTART;TZID=America/Toronto:20240226T130000
DTEND;TZID=America/Toronto:20240226T160000
DTSTAMP:20260424T175837
CREATED:20240123T234156Z
LAST-MODIFIED:20240123T234156Z
UID:8446-1708952400-1708963200@harmonisetoi.ca
SUMMARY:Formation sur les bases de la radiesthésie
DESCRIPTION:Je suis très heureuse de vous présentez la formation sur les bases de la radiesthésie. Celle qui vous permettra de découvrir les secrets du pendule. La formule hybride gagner en popularité\, alors je vous propose de faire le programme en ligne pour commencer les exercices\, par la suite je vous recevrez en présentiel au Centre holistique l’Harmonie pour 3 heures de coaching.\nCette formation est un guide simple et pratique qui rendra l’utilisation du pendule amusante\, mais surtout fiable et précise.\n\n-Elle te permettra de choisir le bon pendule pour toi\n-Elle te permettra de bien te préparer avant d’utiliser ton pendule\n-Elle te permettra de développer un lien de confiance avec ton pendule\n-Elle te permettra de développer ton intuition\n-Elle te permettra également de mieux comprendre le vaste champs des possibles en utilisant ton pendule\n-Elle te permettra d’apprendre à formuler adéquatement tes questions pour recevoir des réponses précises\n\nEt surtout\, cette formation te permettra de reconnecter avec tes dons\, talents et tes capacités de magnétisme.\n\nSi tu es curieux et curieuse et que la médecine du pendule t’appel depuis longtemps\, il est maintenant le temps de faire le grand saut.\nCette offre spécial est de 149$ plus taxes et tu auras également accès à la formation en ligne pour débuter ta pratique avec plus de 40 cadrans de radiesthésie.\nNous avons également des pendules en vente sur place!\n\nPour t’inscrire\, merci de d’utiliser le lien suivant: https://harmonisetoi.ca/formations/\n\nAprès ton achat tu auras déjà accès à la formation en ligne et tu pourras télécharger les documents PDF et les différentes planches de radiesthésies.\nPar la suite écoute les vidéos d’exercices.\nSi tu as déjà ton pendule amuse-toi.\nSi tu préfère attendre le cours le cours du 26 novembre pour commencer c’est correcte.\nNous allons revoir la théorie ensemble et garder du temps pour la pratique.\nSi tu as des questions tu peux m’écrire : info@harmonisetoi.ca\n\nPlaces limitées 10 personnes!\nJosée Bernier Entrepreneure spirituelle\nPropriétaire du Centre Holistique l’Harmonie\nAmbassadrice de lumière\nFacilitatrice de Pas-Sage
URL:https://harmonisetoi.ca/event/formation-sur-les-bases-de-la-radiesthesie/
LOCATION:Centre holistique l’Harmonie – Manoir Breakey\, 3741 avenue St-Augustin\, Sainte-Hélène-de-Breakeyville\, Québec\, G6Z 8H7\, Canada
CATEGORIES:Formation
ATTACH;FMTTYPE=image/jpeg:https://harmonisetoi.ca/wp-content/uploads/422299415_793737439440102_6801104005247131794_n.jpg
ORGANIZER;CN="Jos%C3%A9e Bernier":MAILTO:info@harmonisetoi.ca
END:VEVENT
END:VCALENDAR