BEGIN:VCALENDAR
VERSION:2.0
PRODID:-//Centre holistique l&#039;Harmonie - ECPv6.15.16//NONSGML v1.0//EN
CALSCALE:GREGORIAN
METHOD:PUBLISH
X-WR-CALNAME:Centre holistique l&#039;Harmonie
X-ORIGINAL-URL:https://harmonisetoi.ca
X-WR-CALDESC:Évènements pour Centre holistique l&#039;Harmonie
REFRESH-INTERVAL;VALUE=DURATION:PT1H
X-Robots-Tag:noindex
X-PUBLISHED-TTL:PT1H
BEGIN:VTIMEZONE
TZID:America/Toronto
BEGIN:DAYLIGHT
TZOFFSETFROM:-0500
TZOFFSETTO:-0400
TZNAME:EDT
DTSTART:20250309T070000
END:DAYLIGHT
BEGIN:STANDARD
TZOFFSETFROM:-0400
TZOFFSETTO:-0500
TZNAME:EST
DTSTART:20251102T060000
END:STANDARD
BEGIN:DAYLIGHT
TZOFFSETFROM:-0500
TZOFFSETTO:-0400
TZNAME:EDT
DTSTART:20260308T070000
END:DAYLIGHT
BEGIN:STANDARD
TZOFFSETFROM:-0400
TZOFFSETTO:-0500
TZNAME:EST
DTSTART:20261101T060000
END:STANDARD
BEGIN:DAYLIGHT
TZOFFSETFROM:-0500
TZOFFSETTO:-0400
TZNAME:EDT
DTSTART:20270314T070000
END:DAYLIGHT
BEGIN:STANDARD
TZOFFSETFROM:-0400
TZOFFSETTO:-0500
TZNAME:EST
DTSTART:20271107T060000
END:STANDARD
END:VTIMEZONE
BEGIN:VEVENT
DTSTART;TZID=America/Toronto:20260419T093000
DTEND;TZID=America/Toronto:20260419T160000
DTSTAMP:20260423T044435
CREATED:20260316T160318Z
LAST-MODIFIED:20260316T160318Z
UID:12154-1776591000-1776614400@harmonisetoi.ca
SUMMARY:Éveil des sens I - Connexion
DESCRIPTION:Une journée consacrée aux personnes ouvertes à connaître et explorer tous les clairs sens et leurs dons.\n👉Tu souhaites apprivoiser les sens subtils et à développer ta réceptivité.\n👉Ton canal de réception est ouvert mais tu doutes. \nTu recevras des enseignements pour mieux comprendre et être en confiance.\nLes pratiques ont pour but d’activer tes dons et d’ouvrir ton canal.\nCoanimé avec Gisèle Camiré\nPraticienne à l’antenne de Lecher \nCette journée est pour toi si :\n✔Tu ressens des présences\, des frissons\, des signes ou des synchronicités et tu aimerais en connaître le sens.\n✔Tu perçois des ombres\, des couleurs\, des ombres ou des images.\n✔Tu fais des rêves prémonitoires.\n✔Tu veux apprendre à reconnaître tes dons (clairvoyance\, clairsentience\, clairaudience\, clairconnaissance).\n✔Tu veux apprendre à canaliser les messages de ton âme\, de tes guides ou du monde subtil avec clarté et discernement.\n✔Tu es à la recherche d’une méthode structurée et bienveillante.\n✔Tu te poses des questions telles que :\n❓Est-ce vraiment vrai ou est-ce mon mental?\n❓Pourquoi suis-je ainsi ? Et tu te demandes s’il existe d’autres personnes comme toi.\n❓Tu te demandes quoi en faire ou comment réagir? \n*Au programme*\nNous aborderons les ressentis\, l’intuition et le passage du mental à l’écoute de cette petite voix intérieure.\nNous explorerons l’être multidimensionnel que tu es\, et nous expliquerons les sens\, les doubles sens ainsi que les clairs sens.\nNous traiterons également des vibrations\, des fréquences et du taux vibratoire.\nNous discuterons du développement de tes dons ainsi que des défis qui y sont liés\, dont les modes de protection.\nNous répondrons à tes questionnements dans la bienveillance. \nTout cela animé par 2 collaboratrices du Centre. \n✨Avec la participation de Gisèle Camiré\, Praticienne à l’antenne de Lecher\, collaboratrice au Centre Holistique l’Harmonie\,\ntu bénéficies de nos expériences respectives. \nCette journée est une opportunité de :\n🌟Repartir avec des outils pour continuer ta route en confiance sur le chemin de l’éveil.\n🌟Vivre des expériences te mettant en confiance sur tes ressentis.\n🌟Te connecter avec des âmes marchant sur un chemin d’éveil.\n🌟Prendre un moment pour être pleinement dans ton Je Suis. \n**Places limitées!**\nRéservez vite votre place pour cette journée 💲pour 144 $\n👉(122 $ si inscription avant le 28 mars 2026)\n🌟Tu repartiras avec de la documentation concrète et des outils pour mieux surfer sur la vague des énergies. \n*Inscription*\nIMPORTANT:\n👩‍🦰Réserve ta place par courriel à : l.desrosiers@hotmail.com\net en faisant un virement Interac pour la totalité ou un 1er versement de 50$\, le solde doit être payé avant le 22 février 2026.\n*Virement Interac en utilisant l’adresse courriel\nl.desrosiers@hotmail.com\nQuestion : Éveil\nRéponse : sens\n*Contact : Line Desrosiers au 418 906-0221 \nN’hésites pas si tu as des questions. \nApporte ton lunch\, on prendra 45 minutes pour diner.\nA ta disponibilité\, un frigo et un micro ondes.\nAu plaisir de t’accueillir ! 🦋💜 \n✨Line Desrosiers\nPraticienne énergétique certifiée Enelph\,\nMaître Hushou en Tianshi\nAccompagnante holistique \n✨Gisèle Camiré\nPraticienne de l’antenne de Lecher
URL:https://harmonisetoi.ca/event/eveil-des-sens-i-connexion/
LOCATION:Centre holistique l’Harmonie – Manoir Breakey\, 3741 avenue St-Augustin\, Sainte-Hélène-de-Breakeyville\, Québec\, G6Z 8H7\, Canada
CATEGORIES:Atelier
ATTACH;FMTTYPE=image/jpeg:https://harmonisetoi.ca/wp-content/uploads/651193261_122258990282183263_6794376673671031998_n.jpg
END:VEVENT
END:VCALENDAR